BEGIN:VCALENDAR
VERSION:2.0
PRODID:-//ExpressionEngine Easy iCalendar plugin//NONSGML v2.0.0//EN
X-WR-TIMEZONE:America/New_York
X-WR-CALNAME:Upcoming Auctions
BEGIN:VEVENT
UID:146011
DTSTAMP:20251105T090000
DTSTART:20251105T090000
DTEND:20251105T120000
SUMMARY:CA Elliott Lumber Company\, Inc
LOCATION:200 Main Street\, Roulette\, PA 16748\, US
DESCRIPTION:DATE CHANGE   Auction Date: NOVEMBER 5\, 2025 ONSITE\, ONLI
 NE\, AND PHONE BIDDING AVAILABLE Location: 200 Main Street\, 
 Roulette\, PA 16748 Seller: CA Elliott Lumber Company\, LLC A
 uction Agent: Zach Kittrell 931-224-0699   931-698-8462 
  zach@gwkittrellauctions.com WV 2513 Auctioneer: Keith Beach
 y: PA  AU006287    
URL:https://www.gwkittrellauctions.com/auctions/detail/bw146011
SEQUENCE:1
END:VEVENT
END:VCALENDAR