BEGIN:VCALENDAR
VERSION:2.0
PRODID:-//ExpressionEngine Easy iCalendar plugin//NONSGML v2.0.0//EN
X-WR-TIMEZONE:America/Chicago
X-WR-CALNAME:Upcoming Auctions
BEGIN:VEVENT
UID:160380
DTSTAMP:20260516T090000
DTSTART:20260516T090000
DTEND:20260516T100000
SUMMARY:BLUE STEEL CATTLE CO.
LOCATION:80 Proctor Road\, Henderson\, TN 38340\, US
DESCRIPTION:Auction Date: May 16\, 2026-9 am Central Time       Lo
 cation: 80 Proctor Rd\, Henderson\, TN    38340 Seller: Blu
 e Steel Cattle Co.  Auction Agent: Zach Kittrell 931-224-0
 699   931-698-8462  zach@gwkittrellauctions.com   TN 19
 59                     Terms: A 10 % onsite and
  13% online buyer's premium applies.  All items are sold WH
 ERE IS AS IS with no warranties or guarantees\, expressed or 
 implied. Buyers are encouraged to inspect all items before p
 lacing bids.      Preview: Available by appointment. Plea
 se contact Zach Kittrell 931-224-0699 -to schedule a time fo
 r inspection. 
URL:https://www.gwkittrellauctions.com/auctions/detail/bw160380
SEQUENCE:1
END:VEVENT
END:VCALENDAR